BEGIN:VCALENDAR
VERSION:2.0
PRODID:-//KMU &amp; Gewerbe Gäu - ECPv6.15.20//NONSGML v1.0//EN
CALSCALE:GREGORIAN
METHOD:PUBLISH
X-WR-CALNAME:KMU &amp; Gewerbe Gäu
X-ORIGINAL-URL:https://gewerbe-gaeu.ch
X-WR-CALDESC:Veranstaltungen für KMU &amp; Gewerbe Gäu
REFRESH-INTERVAL;VALUE=DURATION:PT1H
X-Robots-Tag:noindex
X-PUBLISHED-TTL:PT1H
BEGIN:VTIMEZONE
TZID:Europe/Zurich
BEGIN:DAYLIGHT
TZOFFSETFROM:+0100
TZOFFSETTO:+0200
TZNAME:CEST
DTSTART:20250330T010000
END:DAYLIGHT
BEGIN:STANDARD
TZOFFSETFROM:+0200
TZOFFSETTO:+0100
TZNAME:CET
DTSTART:20251026T010000
END:STANDARD
BEGIN:DAYLIGHT
TZOFFSETFROM:+0100
TZOFFSETTO:+0200
TZNAME:CEST
DTSTART:20260329T010000
END:DAYLIGHT
BEGIN:STANDARD
TZOFFSETFROM:+0200
TZOFFSETTO:+0100
TZNAME:CET
DTSTART:20261025T010000
END:STANDARD
BEGIN:DAYLIGHT
TZOFFSETFROM:+0100
TZOFFSETTO:+0200
TZNAME:CEST
DTSTART:20270328T010000
END:DAYLIGHT
BEGIN:STANDARD
TZOFFSETFROM:+0200
TZOFFSETTO:+0100
TZNAME:CET
DTSTART:20271031T010000
END:STANDARD
BEGIN:DAYLIGHT
TZOFFSETFROM:+0100
TZOFFSETTO:+0200
TZNAME:CEST
DTSTART:20280326T010000
END:DAYLIGHT
BEGIN:STANDARD
TZOFFSETFROM:+0200
TZOFFSETTO:+0100
TZNAME:CET
DTSTART:20281029T010000
END:STANDARD
END:VTIMEZONE
BEGIN:VEVENT
DTSTART;TZID=Europe/Zurich:20260513T121500
DTEND;TZID=Europe/Zurich:20260513T223000
DTSTAMP:20260424T141827
CREATED:20250410T092655Z
LAST-MODIFIED:20260414T151910Z
UID:10000070-1778674500-1778711400@gewerbe-gaeu.ch
SUMMARY:Vereinsreise (Trauffer Erlebniswelt + Schifffahrt nach Interlaken)
DESCRIPTION:Hinweis: Für diesen Inhalt ist JavaScript erforderlich.
URL:https://gewerbe-gaeu.ch/event-neu/vereinsreise/
ATTACH;FMTTYPE=image/png:https://gewerbe-gaeu.ch/wp-content/uploads/2025/04/Einladung_Gewerbereise_2026.png
END:VEVENT
BEGIN:VEVENT
DTSTART;TZID=Europe/Zurich:20260527T170000
DTEND;TZID=Europe/Zurich:20260527T200000
DTSTAMP:20260424T141828
CREATED:20250410T092317Z
LAST-MODIFIED:20260415T151516Z
UID:10000069-1779901200-1779912000@gewerbe-gaeu.ch
SUMMARY:Fürobe BIER (Duroc Weinimport GmbH\, Rickenbach)
DESCRIPTION:Das „Fürobe-Bier“ findet jährlich 2x statt (bei einer Mitglieder-Firma). Ganz ungezwungen und bei guter Atmosphäre – mit oder ohne Bier – Hauptsache ein kühles Getränk 😉 – können sich Gastgeber von ihrer besten Seite zeigen. Nebst Getränken (und Bier natürlich) wird auch ein einfaches Snack offeriert. \nKosten:\nSämtliche Kosten werden durch den KMU + Gewerbe Gäu übernommen \nSei das nächste Mal auch dabei und melde Dich gleich an! Wir freuen uns auf gute Gespräche! \n\n\n\n\n	Hinweis: Für diesen Inhalt ist JavaScript erforderlich.
URL:https://gewerbe-gaeu.ch/event-neu/fuerobe-bier-marechaux-elektro-ag-haerkingen/
LOCATION:Duroc Weinimport GmbH\, Industriestrasse West 7\, Rickenbach SO\, 4613
ATTACH;FMTTYPE=image/jpeg:https://gewerbe-gaeu.ch/wp-content/uploads/2024/03/istockphoto-1407985205-612x612-1-e1744276836190.jpg
END:VEVENT
BEGIN:VEVENT
DTSTART;TZID=Europe/Zurich:20260617T114500
DTEND;TZID=Europe/Zurich:20260617T131500
DTSTAMP:20260424T141828
CREATED:20250410T083238Z
LAST-MODIFIED:20260310T083303Z
UID:10000066-1781696700-1781702100@gewerbe-gaeu.ch
SUMMARY:Gewerbe LUNCH
DESCRIPTION:Programm\nGedankenaustausch in ungezwungener Runde \n\n\nAblauf\n11.45 Uhr Eintreffen im Restaurant\, anschliessend Mittagessen\nca. 13.15 Uhr Ende des Anlasses \n\n\nKosten\nDas Essen ist durch die Teilnehmenden vor Ort zu begleichen. Der Verein übernimmt die Kosten für nicht-alkoholische Getränke\, Kaffee\, Bier und einen ausgewählten Rotwein. \n\n  \n\n	Hinweis: Für diesen Inhalt ist JavaScript erforderlich.
URL:https://gewerbe-gaeu.ch/event-neu/gewerbe-lunch-2/
LOCATION:Blüemlismatt Egerkingen\, Blüemlismatt 1\, Egerkingen\, 4622
ATTACH;FMTTYPE=image/jpeg:https://gewerbe-gaeu.ch/wp-content/uploads/2024/04/lunch-icon-design-vector-e1775828049795.jpg
END:VEVENT
BEGIN:VEVENT
DTSTART;TZID=Europe/Zurich:20260910T170000
DTEND;TZID=Europe/Zurich:20260910T200000
DTSTAMP:20260424T141828
CREATED:20250410T091625Z
LAST-MODIFIED:20260310T084613Z
UID:10000068-1789059600-1789070400@gewerbe-gaeu.ch
SUMMARY:Fürobe BIER (marloo Architektur & Consulting\, Oensingen)
DESCRIPTION:Das „Fürobe-Bier“ findet jährlich 2x statt (bei einer Mitglieder-Firma). Ganz ungezwungen und bei guter Atmosphäre – mit oder ohne Bier – Hauptsache ein kühles Getränk 😉 – können sich Gastgeber von ihrer besten Seite zeigen. Nebst Getränken (und Bier natürlich) wird auch ein einfaches Snack offeriert. \nKosten:\nSämtliche Kosten werden durch den KMU + Gewerbe Gäu übernommen \nSei das nächste Mal auch dabei und melde Dich gleich an! Wir freuen uns auf gute Gespräche! \n\n\n\n\n	Hinweis: Für diesen Inhalt ist JavaScript erforderlich.
URL:https://gewerbe-gaeu.ch/event-neu/fuerobe-bier-kamberht-gmbh-prof-autoreinigungen-haegendorf/
LOCATION:marloo Architektur & Consulting\, Eichengasse 3\, Oensingen\, 4702
ATTACH;FMTTYPE=image/jpeg:https://gewerbe-gaeu.ch/wp-content/uploads/2024/03/istockphoto-1407985205-612x612-1-e1744276836190.jpg
END:VEVENT
BEGIN:VEVENT
DTSTART;TZID=Europe/Zurich:20261015T114500
DTEND;TZID=Europe/Zurich:20261015T131500
DTSTAMP:20260424T141828
CREATED:20250128T101041Z
LAST-MODIFIED:20260310T083527Z
UID:10000063-1792064700-1792070100@gewerbe-gaeu.ch
SUMMARY:Gewerbe LUNCH
DESCRIPTION:Programm\nGedankenaustausch in ungezwungener Runde \n\n\nAblauf\n11.45 Uhr Eintreffen im Restaurant\, anschliessend Mittagessen\nca. 13.15 Uhr Ende des Anlasses \n\n\nKosten\nDas Essen ist durch die Teilnehmenden vor Ort zu begleichen. Der Verein übernimmt die Kosten für nicht-alkoholische Getränke\, Kaffee\, Bier und einen ausgewählten Rotwein. \n\n  \n\n	Hinweis: Für diesen Inhalt ist JavaScript erforderlich.
URL:https://gewerbe-gaeu.ch/event-neu/gewerbe-lunch/
LOCATION:Bergwirtschaft Tiefmatt\, Tiefmatt 1\, Oberbuchsiten\, Solothurn\, 4625\, Switzerland
ATTACH;FMTTYPE=image/jpeg:https://gewerbe-gaeu.ch/wp-content/uploads/2024/04/lunch-icon-design-vector-e1775828049795.jpg
END:VEVENT
BEGIN:VEVENT
DTSTART;TZID=Europe/Zurich:20261106T173000
DTEND;TZID=Europe/Zurich:20261106T220000
DTSTAMP:20260424T141828
CREATED:20250410T092951Z
LAST-MODIFIED:20260310T090517Z
UID:10000071-1793986200-1794002400@gewerbe-gaeu.ch
SUMMARY:Herbstfest (Details folgen)
DESCRIPTION:Details folgen zu gegebener Zeit
URL:https://gewerbe-gaeu.ch/event-neu/herbstfest/
END:VEVENT
BEGIN:VEVENT
DTSTART;TZID=Europe/Zurich:20270114T114500
DTEND;TZID=Europe/Zurich:20270114T131500
DTSTAMP:20260424T141828
CREATED:20260310T083711Z
LAST-MODIFIED:20260310T083711Z
UID:10000074-1799927100-1799932500@gewerbe-gaeu.ch
SUMMARY:Gewerbe LUNCH
DESCRIPTION:Programm\nGedankenaustausch in ungezwungener Runde \n\n\nAblauf\n11.45 Uhr Eintreffen im Restaurant\, anschliessend Mittagessen\nca. 13.15 Uhr Ende des Anlasses \n\n\nKosten\nDas Essen ist durch die Teilnehmenden vor Ort zu begleichen. Der Verein übernimmt die Kosten für nicht-alkoholische Getränke\, Kaffee\, Bier und einen ausgewählten Rotwein. \n\n  \n\n	Hinweis: Für diesen Inhalt ist JavaScript erforderlich.
URL:https://gewerbe-gaeu.ch/event-neu/gewerbe-lunch-4/
LOCATION:Restaurant Chutz\, Dorfstrasse 13\, Oberbuchsiten\, 4625
ATTACH;FMTTYPE=image/jpeg:https://gewerbe-gaeu.ch/wp-content/uploads/2024/04/lunch-icon-design-vector-e1775828049795.jpg
END:VEVENT
BEGIN:VEVENT
DTSTART;TZID=Europe/Zurich:20270319T170000
DTEND;TZID=Europe/Zurich:20270319T220000
DTSTAMP:20260424T141828
CREATED:20260310T084814Z
LAST-MODIFIED:20260318T145123Z
UID:10000075-1805475600-1805493600@gewerbe-gaeu.ch
SUMMARY:109. Generalversammlung – 19.03.2027 – Hotel Kreuz\, Egerkingen
DESCRIPTION:Anmeldung für die Generalversammlung (Details folgen zu gegebener Zeit) \n  \n\n\n	Hinweis: Für diesen Inhalt ist JavaScript erforderlich.
URL:https://gewerbe-gaeu.ch/event-neu/109-generalversammlung-19-03-2027-hotel-kreuz-egerkingen/
LOCATION:Gasthof Kreuz\, Egerkingen\, Oltnerstrasse 11\, Egerkingen\, 4622
ATTACH;FMTTYPE=image/jpeg:https://gewerbe-gaeu.ch/wp-content/uploads/2026/03/images.jpg
END:VEVENT
END:VCALENDAR